BEGIN:VCALENDAR
VERSION:2.0
PRODID:-//União de Radioamadores de Pernambuco - ECPv6.15.20//NONSGML v1.0//EN
CALSCALE:GREGORIAN
METHOD:PUBLISH
X-WR-CALNAME:União de Radioamadores de Pernambuco
X-ORIGINAL-URL:https://urpe.org.br
X-WR-CALDESC:Eventos para União de Radioamadores de Pernambuco
REFRESH-INTERVAL;VALUE=DURATION:PT1H
X-Robots-Tag:noindex
X-PUBLISHED-TTL:PT1H
BEGIN:VTIMEZONE
TZID:America/Recife
BEGIN:STANDARD
TZOFFSETFROM:-0300
TZOFFSETTO:-0300
TZNAME:-03
DTSTART:20250101T000000
END:STANDARD
END:VTIMEZONE
BEGIN:VEVENT
DTSTART;VALUE=DATE:20260517
DTEND;VALUE=DATE:20260518
DTSTAMP:20260423T083656
CREATED:20260211T150901Z
LAST-MODIFIED:20260211T150901Z
UID:1692-1778976000-1779062399@urpe.org.br
SUMMARY:10º Encontro de Radioamadores e PX de Caruaru
DESCRIPTION:10º Encontro de Radioamadores e PX de Caruaru \n  \nLocal do encontro: Polo de Caruaru \nDas 09h às 16H
URL:https://urpe.org.br/event/10o-encontro-de-radioamadores-e-px-de-caruaru/
LOCATION:Pernambuco
END:VEVENT
BEGIN:VEVENT
DTSTART;VALUE=DATE:20270307
DTEND;VALUE=DATE:20270308
DTSTAMP:20260423T083656
CREATED:20260309T111326Z
LAST-MODIFIED:20260309T111407Z
UID:1700-1804377600-1804463999@urpe.org.br
SUMMARY:VI Encontro de Radioamadores da URPE
DESCRIPTION:IV Encontro de Radioamadores da URPE
URL:https://urpe.org.br/event/iv-encontro-de-radioamadores-da-urpe/
LOCATION:Restaurante Bode do Mundinho\, BR-408\, 2500 - Penedo\, São Lourenço da Mata - PE\, 54710-840\, São Lourenço\, Pernambuco\, Brasil
ORGANIZER;CN="Nascimento":MAILTO:contato.urpe@gmail.com
END:VEVENT
END:VCALENDAR