BEGIN:VCALENDAR
VERSION:2.0
PRODID:-//União de Radioamadores de Pernambuco - ECPv6.15.20//NONSGML v1.0//EN
CALSCALE:GREGORIAN
METHOD:PUBLISH
X-WR-CALNAME:União de Radioamadores de Pernambuco
X-ORIGINAL-URL:https://urpe.org.br
X-WR-CALDESC:Eventos para União de Radioamadores de Pernambuco
REFRESH-INTERVAL;VALUE=DURATION:PT1H
X-Robots-Tag:noindex
X-PUBLISHED-TTL:PT1H
BEGIN:VTIMEZONE
TZID:America/Recife
BEGIN:STANDARD
TZOFFSETFROM:-0300
TZOFFSETTO:-0300
TZNAME:-03
DTSTART:20240101T000000
END:STANDARD
END:VTIMEZONE
BEGIN:VEVENT
DTSTART;TZID=America/Recife:20251107T080000
DTEND;TZID=America/Recife:20251108T170000
DTSTAMP:20260423T212543
CREATED:20250326T162038Z
LAST-MODIFIED:20250926T120952Z
UID:1427-1762502400-1762621200@urpe.org.br
SUMMARY:20º Encontro de Radioamador de Surubim
DESCRIPTION:Gostaríamos de informar que\, devido a diversas solicitações e para melhor atender às necessidades dos participantes\, antecipamos a realização do XX Encontro de Radioamador de Surubim para os dias 07 e 08 de novembro. O evento ocorrerá na Churrascaria Fogo de Brasa Grill\, em Surubim. \nNosso objetivo é proporcionar um encontro ainda mais organizado e acessível a todos os entusiastas da radioamadoragem\, garantindo a presença do maior número possível de participantes e apoiadores. Acreditamos que essa mudança permitirá uma experiência ainda mais proveitosa e enriquecedora para todos. \nAgradecemos pela compreensão e pelo apoio de sempre. Contamos com a presença de todos para fazermos deste evento um grande sucesso!
URL:https://urpe.org.br/event/xx-encontro-de-radioamador-de-surubim/
LOCATION:Churrascaria Fogo de Brasa Grill\, Churrascaria Fogo de Brasa Grill\, Surubim\, Pernambuco\, 55750000\, Brazil
ATTACH;FMTTYPE=image/jpeg:https://urpe.org.br/wp-content/uploads/2025/03/surubim-e1743006171214.jpg
END:VEVENT
BEGIN:VEVENT
DTSTART;VALUE=DATE:20251207
DTEND;VALUE=DATE:20251208
DTSTAMP:20260423T212543
CREATED:20251003T141108Z
LAST-MODIFIED:20251003T141108Z
UID:1572-1765065600-1765151999@urpe.org.br
SUMMARY:Encontro de Radioamadores de Garanhuns - PE
DESCRIPTION:Encontro de Radioamadores de Garanhuns – PE\n 
URL:https://urpe.org.br/event/encontro-de-radioamadores-de-garanhuns-pe/
LOCATION:Pernambuco
END:VEVENT
BEGIN:VEVENT
DTSTART;VALUE=DATE:20260208
DTEND;VALUE=DATE:20260209
DTSTAMP:20260423T212543
CREATED:20250926T120751Z
LAST-MODIFIED:20250926T120751Z
UID:1565-1770508800-1770595199@urpe.org.br
SUMMARY:5º Encontro de Radioamadores - URPE
DESCRIPTION:Vem aí o 5º Encontro de Radioamadores da URPE – União de Radioamadores de Pernambuco \n 
URL:https://urpe.org.br/event/5o-encontro-de-radioamadores-urpe/
LOCATION:Restaurante Bode do Mundinho\, BR-408\, 2500 - Penedo\, São Lourenço da Mata - PE\, 54710-840\, São Lourenço\, Pernambuco\, Brasil
ORGANIZER;CN="Nascimento":MAILTO:contato.urpe@gmail.com
END:VEVENT
BEGIN:VEVENT
DTSTART;VALUE=DATE:20260412
DTEND;VALUE=DATE:20260414
DTSTAMP:20260423T212543
CREATED:20260211T150734Z
LAST-MODIFIED:20260223T234213Z
UID:1690-1775952000-1776124799@urpe.org.br
SUMMARY:10º Encontro de Radioamadores da Serra da Teixeira - PB
DESCRIPTION:Convidados V.Sa. a participar do 10º encontro de Radioamadores do PICO DO JABRE\, à 1.197m\, ponto culminante da Paraíba\, na cidade de Teixeira-PB nos dias 11 e 12 de Abril de 2026. \n  \nLocal: Churrascaria Pedra do Galo – Teixeira – PB
URL:https://urpe.org.br/event/10o-encontro-de-radioamadores-da-serra-da-teixeira-pb/
LOCATION:Pernambuco
END:VEVENT
BEGIN:VEVENT
DTSTART;VALUE=DATE:20260517
DTEND;VALUE=DATE:20260518
DTSTAMP:20260423T212543
CREATED:20260211T150901Z
LAST-MODIFIED:20260211T150901Z
UID:1692-1778976000-1779062399@urpe.org.br
SUMMARY:10º Encontro de Radioamadores e PX de Caruaru
DESCRIPTION:10º Encontro de Radioamadores e PX de Caruaru \n  \nLocal do encontro: Polo de Caruaru \nDas 09h às 16H
URL:https://urpe.org.br/event/10o-encontro-de-radioamadores-e-px-de-caruaru/
LOCATION:Pernambuco
END:VEVENT
BEGIN:VEVENT
DTSTART;VALUE=DATE:20270307
DTEND;VALUE=DATE:20270308
DTSTAMP:20260423T212543
CREATED:20260309T111326Z
LAST-MODIFIED:20260309T111407Z
UID:1700-1804377600-1804463999@urpe.org.br
SUMMARY:VI Encontro de Radioamadores da URPE
DESCRIPTION:IV Encontro de Radioamadores da URPE
URL:https://urpe.org.br/event/iv-encontro-de-radioamadores-da-urpe/
LOCATION:Restaurante Bode do Mundinho\, BR-408\, 2500 - Penedo\, São Lourenço da Mata - PE\, 54710-840\, São Lourenço\, Pernambuco\, Brasil
ORGANIZER;CN="Nascimento":MAILTO:contato.urpe@gmail.com
END:VEVENT
END:VCALENDAR