BEGIN:VCALENDAR
VERSION:2.0
PRODID:-//União de Radioamadores de Pernambuco - ECPv6.15.20//NONSGML v1.0//EN
CALSCALE:GREGORIAN
METHOD:PUBLISH
X-ORIGINAL-URL:https://urpe.org.br
X-WR-CALDESC:Eventos para União de Radioamadores de Pernambuco
REFRESH-INTERVAL;VALUE=DURATION:PT1H
X-Robots-Tag:noindex
X-PUBLISHED-TTL:PT1H
BEGIN:VTIMEZONE
TZID:America/Sao_Paulo
BEGIN:STANDARD
TZOFFSETFROM:-0300
TZOFFSETTO:-0300
TZNAME:-03
DTSTART:20220101T000000
END:STANDARD
END:VTIMEZONE
BEGIN:VEVENT
DTSTART;VALUE=DATE:20230212
DTEND;VALUE=DATE:20230213
DTSTAMP:20260425T110005
CREATED:20230119T114332Z
LAST-MODIFIED:20230119T114332Z
UID:660-1676160000-1676246399@urpe.org.br
SUMMARY:2º Encontro da URPE - União de Radioamadores de Pernambuco
DESCRIPTION:
URL:https://urpe.org.br/event/2o-encontro-da-urpe-uniao-de-radioamadores-de-pernambuco/
LOCATION:Restaurante Bode do Mundinho\, BR-408\, 2500 - Penedo\, São Lourenço da Mata - PE\, 54710-840\, São Lourenço\, Pernambuco\, Brasil
ORGANIZER;CN="Nascimento":MAILTO:contato.urpe@gmail.com
END:VEVENT
END:VCALENDAR