BEGIN:VCALENDAR
VERSION:2.0
PRODID:-//União de Radioamadores de Pernambuco - ECPv6.15.20//NONSGML v1.0//EN
CALSCALE:GREGORIAN
METHOD:PUBLISH
X-ORIGINAL-URL:https://urpe.org.br
X-WR-CALDESC:Eventos para União de Radioamadores de Pernambuco
REFRESH-INTERVAL;VALUE=DURATION:PT1H
X-Robots-Tag:noindex
X-PUBLISHED-TTL:PT1H
BEGIN:VTIMEZONE
TZID:America/Sao_Paulo
BEGIN:STANDARD
TZOFFSETFROM:-0300
TZOFFSETTO:-0300
TZNAME:-03
DTSTART:20230101T000000
END:STANDARD
END:VTIMEZONE
BEGIN:VEVENT
DTSTART;VALUE=DATE:20240310
DTEND;VALUE=DATE:20240311
DTSTAMP:20260424T182111
CREATED:20230814T005554Z
LAST-MODIFIED:20230814T005554Z
UID:921-1710028800-1710115199@urpe.org.br
SUMMARY:3º Encontro da URPE – União de Radioamadores de Pernambuco
DESCRIPTION:Mais informações nos contatos: \ncontato.urpe@gmail.com \nWhatsapp: https://api.whatsapp.com/send?phone=5581971212005 \nTelefone: +55 81 97121-2005
URL:https://urpe.org.br/event/3o-encontro-da-urpe-uniao-de-radioamadores-de-pernambuco/
LOCATION:Restaurante Bode do Mundinho\, BR-408\, 2500 - Penedo\, São Lourenço da Mata - PE\, 54710-840\, São Lourenço\, Pernambuco\, Brasil
ORGANIZER;CN="Nascimento":MAILTO:contato.urpe@gmail.com
END:VEVENT
END:VCALENDAR